BEGIN:VCALENDAR
VERSION:2.0
PRODID:icalendar-ruby
CALSCALE:GREGORIAN
METHOD:PUBLISH
BEGIN:VEVENT
DTSTAMP:20260422T091033Z
UID:292-1455763@wayoflifechurch.ca
DTSTART:20260425T010000Z
DTEND:20260425T030000Z
CLASS:PUBLIC
CREATED:20260419T211933
DESCRIPTION:
LAST-MODIFIED:20260419T211933
LOCATION:
SUMMARY:Youth Group
URL;VALUE=URI:https://www.wayoflifechurch.ca/events/youth-group--292/2026-0
 4-24
ATTACH;FILENAME=YOUTH.png;FMTTYPE=image/png:https://dq5pwpg1q8ru0.cloudfron
 t.net/2026/04/20/03/19/33/49fe939e-2de5-484a-ae11-df5572e1406c/YOUTH.png
END:VEVENT
END:VCALENDAR
