BEGIN:VCALENDAR
VERSION:2.0
PRODID:icalendar-ruby
CALSCALE:GREGORIAN
METHOD:PUBLISH
BEGIN:VEVENT
DTSTAMP:20260421T110150Z
UID:263-1461983@wayoflifechurch.ca
DTSTART:20260922T190000Z
DTEND:20260922T203000Z
CLASS:PUBLIC
CREATED:20260421T043405
DESCRIPTION:
LAST-MODIFIED:20260421T043405
LOCATION:
SUMMARY:Women's Bible Study
URL;VALUE=URI:https://www.wayoflifechurch.ca/events/womens-bible-study/2026
 -09-22
ATTACH;FILENAME=Brown-Minimalist-Bible-Study-Flyer-%28Presentation%29-%282%
 29.png;FMTTYPE=image/png:https://dq5pwpg1q8ru0.cloudfront.net/2025/12/27/1
 4/19/21/1fb79dfb-7783-4be5-b4ff-a25738a5f8b5/Brown-Minimalist-Bible-Study-
 Flyer-%2528Presentation%2529-%25282%2529.png
END:VEVENT
END:VCALENDAR
