BEGIN:VCALENDAR
VERSION:2.0
PRODID:icalendar-ruby
CALSCALE:GREGORIAN
METHOD:PUBLISH
BEGIN:VEVENT
DTSTAMP:20260424T222929Z
UID:15-1478739@wayoflifechurch.ca
DTSTART:20261018T163000Z
DTEND:20261018T173000Z
CLASS:PUBLIC
CREATED:20260424T155744
DESCRIPTION:Sunday Service
LAST-MODIFIED:20260424T155744
LOCATION:
SUMMARY:Sunday Service
URL;VALUE=URI:https://www.wayoflifechurch.ca/events/sunday-service/2026-10-
 18
END:VEVENT
END:VCALENDAR
