BEGIN:VCALENDAR
VERSION:2.0
PRODID:icalendar-ruby
CALSCALE:GREGORIAN
METHOD:PUBLISH
BEGIN:VEVENT
DTSTAMP:20260424T184318Z
UID:15-1477177@wayoflifechurch.ca
DTSTART:20261004T163000Z
DTEND:20261004T173000Z
CLASS:PUBLIC
CREATED:20260424T102401
DESCRIPTION:Sunday Service
LAST-MODIFIED:20260424T102401
LOCATION:
SUMMARY:Sunday Service
URL;VALUE=URI:https://www.wayoflifechurch.ca/events/sunday-service/2026-10-
 04
END:VEVENT
END:VCALENDAR
