BEGIN:VCALENDAR
VERSION:2.0
PRODID:icalendar-ruby
CALSCALE:GREGORIAN
METHOD:PUBLISH
BEGIN:VEVENT
DTSTAMP:20260424T133922Z
UID:15-1476394@wayoflifechurch.ca
DTSTART:20260913T163000Z
DTEND:20260913T173000Z
CLASS:PUBLIC
CREATED:20260424T073305
DESCRIPTION:Sunday Service
LAST-MODIFIED:20260424T073305
LOCATION:
SUMMARY:Sunday Service
URL;VALUE=URI:https://www.wayoflifechurch.ca/events/sunday-service/2026-09-
 13
END:VEVENT
END:VCALENDAR
