BEGIN:VCALENDAR
VERSION:2.0
PRODID:icalendar-ruby
CALSCALE:GREGORIAN
METHOD:PUBLISH
BEGIN:VEVENT
DTSTAMP:20260424T120649Z
UID:15-1475613@wayoflifechurch.ca
DTSTART:20260906T163000Z
DTEND:20260906T173000Z
CLASS:PUBLIC
CREATED:20260424T043818
DESCRIPTION:Sunday Service
LAST-MODIFIED:20260424T043818
LOCATION:
SUMMARY:Sunday Service
URL;VALUE=URI:https://www.wayoflifechurch.ca/events/sunday-service/2026-09-
 06
END:VEVENT
END:VCALENDAR
