BEGIN:VCALENDAR
VERSION:2.0
PRODID:icalendar-ruby
CALSCALE:GREGORIAN
METHOD:PUBLISH
BEGIN:VEVENT
DTSTAMP:20260424T103134Z
UID:15-1474833@wayoflifechurch.ca
DTSTART:20260830T163000Z
DTEND:20260830T173000Z
CLASS:PUBLIC
CREATED:20260423T191031
DESCRIPTION:Sunday Service
LAST-MODIFIED:20260423T191031
LOCATION:
SUMMARY:Sunday Service
URL;VALUE=URI:https://www.wayoflifechurch.ca/events/sunday-service/2026-08-
 30
END:VEVENT
END:VCALENDAR
