BEGIN:VCALENDAR
VERSION:2.0
PRODID:icalendar-ruby
CALSCALE:GREGORIAN
METHOD:PUBLISH
BEGIN:VEVENT
DTSTAMP:20260425T113622Z
UID:289-1392999@wayoflifechurch.ca
DTSTART:20260503T173000Z
DTEND:20260503T190000Z
CLASS:PUBLIC
CREATED:20260406T083425
DESCRIPTION:
LAST-MODIFIED:20260406T083425
LOCATION:
SUMMARY:Fellowship Lunch
URL;VALUE=URI:https://www.wayoflifechurch.ca/events/fellowship-lunch--289/2
 026-05-03
ATTACH;FILENAME=lunch.png;FMTTYPE=image/png:https://dq5pwpg1q8ru0.cloudfron
 t.net/2026/04/06/14/34/25/9a59b718-410f-4dbb-95d4-2238defb793e/lunch.png
END:VEVENT
END:VCALENDAR
